BEGIN:VCALENDAR
VERSION:2.0
PRODID:-//ChamberMaster//Event Calendar 2.0//EN
METHOD:PUBLISH
X-PUBLISHED-TTL:P3D
REFRESH-INTERVAL:P3D
CALSCALE:GREGORIAN
BEGIN:VEVENT
DTSTART:20260514T170000Z
DTEND:20260514T180000Z
X-MICROSOFT-CDO-ALLDAYEVENT:FALSE
SUMMARY:2026 Pride Planning Committee Meeting
DESCRIPTION:Help Us Shape Pride 2026!\n\n \n\nGot ideas? We want to hear them! Join the convo\, share your vision\, and let's make this year unforgettable. Open to all members don't miss out!
X-ALT-DESC;FMTTYPE=text/html:<p style="margin: 0px\; padding: 0px\; color: rgb(62\, 62\, 62)\; font-family: Arial\, Verdana\, Helvetica\, sans-serif\; font-size: 14px\;"><span style="font-weight: bold\; font-size: 16px\; color: rgb(195\, 49\, 154)\; font-style: italic\;">Help Us Shape&nbsp\;Pride&nbsp\;2026!</span></p>\n\n<p style="margin: 0px\; padding: 0px\; color: rgb(62\, 62\, 62)\; font-family: Arial\, Verdana\, Helvetica\, sans-serif\; font-size: 14px\;">&nbsp\;</p>\n\n<p style="margin: 0px\; padding: 0px\; color: rgb(62\, 62\, 62)\; font-family: Arial\, Verdana\, Helvetica\, sans-serif\; font-size: 14px\;"><span style="font-size: 16px\; color: rgb(52\, 51\, 50)\;">Got ideas? We want to hear them! Join the convo\, share your vision\, and let&rsquo\;s make this year unforgettable. Open to all members&mdash\;don&rsquo\;t miss out!</span></p>\n
LOCATION:Virtual Meeting (Zoom) https://zoom.us/j/97574190182?pwd=LwKDE5wC93Yjgiw69WssDb4z2Y5uDi.1
UID:e.2637.6319
SEQUENCE:3
DTSTAMP:20260420T213009Z
URL:https://members.laglcc.org/events/details/2026-pride-planning-committee-meeting-05-14-2026-6319
END:VEVENT

END:VCALENDAR
