BEGIN:VCALENDAR
VERSION:2.0
PRODID:-//ChamberMaster//Event Calendar 2.0//EN
METHOD:PUBLISH
X-PUBLISHED-TTL:P3D
REFRESH-INTERVAL:P3D
CALSCALE:GREGORIAN
BEGIN:VEVENT
DTSTART:20260427T180000Z
DTEND:20260427T193000Z
X-MICROSOFT-CDO-ALLDAYEVENT:FALSE
SUMMARY:CCGI Powering Opportunity Program
DESCRIPTION:We are once again thrilled to partner with the National LGBTQ+ & Allied Chamber of Commerce (NGLCC) for the NGLCC California Certification Growth Initiative (CCGI) to support LGBTQ+ businesses accessing procurement opportunities across our state.\n \n\nAs such\, we are thrilled to invite you to attend the CCGI Powering Opportunity Program\, a virtual session focused on helping California-based suppliers better understand\, access\, and compete for opportunities with California Public Utilities Commission (CPUC) regulated utility companies.\n \n\nCPUC-regulated utilities alone spend more than $40 billion each year on goods and services and now have a 1.5% procurement goal for LGBTQ+ owned businesses representing roughly $650+ million in opportunity annually. Yet much of that spend remains untapped simply because too few businesses are certified and visible in supplier pipelines. Certification is more than a designation it is your access point to real contracts\, real buyers\, and real revenue. Join us to learn how becoming certified can position your business to compete for and win your share of this growing market.\n \n\nDuring the virtual CCGI Powering Opportunity Program\, participants will:\n\n- Learn how to identify and pursue contracting opportunities with California utilities \n\n- Understand what corporate and utility buyers are looking for in qualified supplier\n\n- Gain insights directly from partners on how to position your business for engagement and success\n\n - Leverage NGLCC certification as a tool to increase visibility and access to supplier inclusion pipelines\n\nREGISTER TODAY!\n\nDate: Monday\, April 27\, 2026\n\nTime: 11am-12:30pm PT\n \n\nThis is an open program for businesses eligible to work in California. We encourage you to take advantage of this opportunity and to share it with others in your network who may benefit.\n \n\nIf you have any questions\, feel free to reach out at info@laglcc.org. We hope to see you there!
X-ALT-DESC;FMTTYPE=text/html:<p dir="ltr" style="line-height:1.2\;margin-top:0pt\;margin-bottom:0pt\;"><span style="font-family:arial\;"><span id="docs-internal-guid-9e154dfb-7fff-a987-2a5d-2f91cd031590"><span style="font-size: 12pt\; color: rgb(0\, 0\, 0)\; background-color: transparent\; font-variant: normal\; vertical-align: baseline\; white-space: pre-wrap\;">We are once again thrilled to partner with the National LGBTQ+ &amp\; Allied Chamber of Commerce (NGLCC) for the NGLCC California Certification Growth Initiative (CCGI) to support LGBTQ+ businesses accessing procurement opportunities across our state.</span></span></span></p>\n&nbsp\;\n\n<p dir="ltr" style="line-height:1.2\;margin-top:0pt\;margin-bottom:0pt\;"><span style="font-family:arial\;"><span id="docs-internal-guid-9e154dfb-7fff-a987-2a5d-2f91cd031590"><span style="font-size: 12pt\; color: rgb(0\, 0\, 0)\; background-color: transparent\; font-variant: normal\; vertical-align: baseline\; white-space: pre-wrap\;">As such\, we are thrilled to invite you to attend the </span><span style="font-size: 12pt\; color: rgb(0\, 0\, 0)\; background-color: transparent\; font-weight: 700\; font-variant: normal\; vertical-align: baseline\; white-space: pre-wrap\;">CCGI Powering Opportunity Program</span><span style="font-size: 12pt\; color: rgb(0\, 0\, 0)\; background-color: transparent\; font-variant: normal\; vertical-align: baseline\; white-space: pre-wrap\;">\, a virtual session focused on helping California-based suppliers better understand\, access\, and compete for opportunities with California Public Utilities Commission (CPUC) regulated utility companies.</span></span></span></p>\n&nbsp\;\n\n<p dir="ltr" style="line-height:1.2\;margin-top:0pt\;margin-bottom:0pt\;"><span style="font-family:arial\;"><span id="docs-internal-guid-9e154dfb-7fff-a987-2a5d-2f91cd031590"><span style="font-size: 12pt\; color: rgb(0\, 0\, 0)\; background-color: transparent\; font-variant: normal\; vertical-align: baseline\; white-space: pre-wrap\;">CPUC-regulated utilities alone spend more than $40 billion each year on goods and services </span><span style="font-size: 12pt\; color: rgb(0\, 0\, 0)\; background-color: transparent\; font-weight: 700\; font-variant: normal\; vertical-align: baseline\; white-space: pre-wrap\;">and now have a 1.5% procurement goal for LGBTQ+ owned businesses representing roughly $650+ million in opportunity annually. </span><span style="font-size: 12pt\; color: rgb(0\, 0\, 0)\; background-color: transparent\; font-variant: normal\; vertical-align: baseline\; white-space: pre-wrap\;">Yet much of that spend remains untapped simply because too few businesses are certified and visible in supplier pipelines. Certification is more than a designation it is your access point to real contracts\, real buyers\, and real revenue. Join us to learn how becoming certified can position your business to compete for and win your share of this growing market.</span></span></span></p>\n&nbsp\;\n\n<p dir="ltr" style="line-height:1.2\;margin-top:0pt\;margin-bottom:0pt\;"><span style="font-family:arial\;"><span id="docs-internal-guid-9e154dfb-7fff-a987-2a5d-2f91cd031590"><span style="font-size: 12pt\; color: rgb(0\, 0\, 0)\; background-color: transparent\; font-variant: normal\; vertical-align: baseline\; white-space: pre-wrap\;">During the virtual CCGI Powering Opportunity Program\, participants will:</span></span></span></p>\n\n<p dir="ltr" role="presentation" style="list-style-type: disc\; font-size: 12pt\; color: rgb(0\, 0\, 0)\; background-color: transparent\; font-variant: normal\; vertical-align: baseline\; white-space-collapse: preserve\; line-height: 1.2\; margin-top: 0pt\; margin-bottom: 8pt\;"><span style="white-space-collapse: preserve\; font-size: 12pt\; background-color: transparent\; font-variant: normal\; vertical-align: baseline\; text-wrap-mode: nowrap\;"><font face="Aptos">- </font></span><span style="font-family: arial\; white-space: pre-wrap\; font-size: 12pt\; background-color: transparent\; font-variant: normal\; vertical-align: baseline\;">Learn how to identify and pursue contracting opportunities with California utilities&nbsp\;<br />\n- <span style="font-family:arial\;"><span><span style="font-size: 12pt\; background-color: transparent\; font-variant: normal\; vertical-align: baseline\; white-space: pre-wrap\;">Understand what corporate and utility buyers are looking for in qualified supplier<br />\n<span style="font-family:arial\;"><span><span style="font-size: 12pt\; background-color: transparent\; font-variant: normal\; vertical-align: baseline\; white-space: pre-wrap\;">- <span style="font-family:arial\;"><span><span style="font-size: 12pt\; background-color: transparent\; font-variant: normal\; vertical-align: baseline\; white-space: pre-wrap\;">Gain insights directly from partners on how to position your business for engagement and success<br />\n&#8203\;<span style="font-family:arial\;"><span id="docs-internal-guid-9e154dfb-7fff-a987-2a5d-2f91cd031590"><span style="font-size: 12pt\; background-color: transparent\; font-variant: normal\; vertical-align: baseline\; white-space: pre-wrap\;"><span style="font-family:arial\;"><span><span style="font-size: 12pt\; background-color: transparent\; font-variant: normal\; vertical-align: baseline\; white-space: pre-wrap\;"><span style="font-family:arial\;"><span id="docs-internal-guid-9e154dfb-7fff-a987-2a5d-2f91cd031590"><span style="font-size: 12pt\; background-color: transparent\; font-variant: normal\; vertical-align: baseline\; white-space: pre-wrap\;">- <span style="font-family:arial\;"><span id="docs-internal-guid-9e154dfb-7fff-a987-2a5d-2f91cd031590"><span style="font-size: 12pt\; background-color: transparent\; font-variant: normal\; vertical-align: baseline\; white-space: pre-wrap\;">Leverage NGLCC certification as a tool to increase visibility and access to supplier inclusion pipelines</span></span></span></span></span></span></span></span></span></span></span></span></span></span></span></span></span></span></span></span></span></span></p>\n\n<p dir="ltr" style="line-height:1.2\;text-align: center\;margin-top:0pt\;margin-bottom:0pt\;"><span style="font-family:arial\;"><span id="docs-internal-guid-9e154dfb-7fff-a987-2a5d-2f91cd031590"><a href="https://us06web.zoom.us/meeting/register/IoUVFtdFRqC30FGp-P7K3w" style="text-decoration:none\;"><span style="font-size: 12pt\; color: rgb(70\, 120\, 134)\; background-color: transparent\; font-weight: 700\; font-variant: normal\; text-decoration: underline\; text-decoration-skip-ink: none\; vertical-align: baseline\; white-space: pre-wrap\;">REGISTER TODAY!</span></a></span></span></p>\n\n<p dir="ltr" style="line-height:1.2\;text-align: center\;margin-top:0pt\;margin-bottom:0pt\;"><span style="font-family:arial\;"><span id="docs-internal-guid-9e154dfb-7fff-a987-2a5d-2f91cd031590"><span style="font-size: 12pt\; color: rgb(0\, 0\, 0)\; background-color: transparent\; font-weight: 700\; font-variant: normal\; vertical-align: baseline\; white-space: pre-wrap\;">Date: Monday\, April 27\, 2026</span></span></span></p>\n\n<p dir="ltr" style="line-height:1.2\;text-align: center\;margin-top:0pt\;margin-bottom:0pt\;"><span style="font-family:arial\;"><span id="docs-internal-guid-9e154dfb-7fff-a987-2a5d-2f91cd031590"><span style="font-size: 12pt\; color: rgb(0\, 0\, 0)\; background-color: transparent\; font-weight: 700\; font-variant: normal\; vertical-align: baseline\; white-space: pre-wrap\;">Time: 11am-12:30pm PT</span></span></span></p>\n&nbsp\;\n\n<p dir="ltr" style="line-height:1.2\;margin-top:0pt\;margin-bottom:0pt\;"><span style="font-family:arial\;"><span id="docs-internal-guid-9e154dfb-7fff-a987-2a5d-2f91cd031590"><span style="font-size: 12pt\; color: rgb(0\, 0\, 0)\; background-color: transparent\; font-variant: normal\; vertical-align: baseline\; white-space: pre-wrap\;">This is an open program for businesses eligible to work in California. We encourage you to take advantage of this opportunity and to share it with others in your network who may benefit.</span></span></span></p>\n&nbsp\;\n\n<p dir="ltr" style="line-height:1.2\;margin-top:0pt\;margin-bottom:0pt\;"><span style="font-family:arial\;"><span id="docs-internal-guid-9e154dfb-7fff-a987-2a5d-2f91cd031590"><span style="font-size: 12pt\; color: rgb(0\, 0\, 0)\; background-color: transparent\; font-variant: normal\; vertical-align: baseline\; white-space: pre-wrap\;">If you have any questions\, feel free to reach out at info@laglcc.org. We hope to see you there!</span></span></span></p>\n
LOCATION:Virtual (Zoom)
UID:e.2637.6323
SEQUENCE:3
DTSTAMP:20260421T063047Z
URL:https://members.laglcc.org/events/details/ccgi-powering-opportunity-program-6323
END:VEVENT

END:VCALENDAR
